BEGIN:VCALENDAR
VERSION:2.0
PRODID:-//NMC&#039;s Center for Teaching and Learning - ECPv6.15.20//NONSGML v1.0//EN
CALSCALE:GREGORIAN
METHOD:PUBLISH
X-WR-CALNAME:NMC&#039;s Center for Teaching and Learning
X-ORIGINAL-URL:https://teaching.nmc.edu
X-WR-CALDESC:Events for NMC&#039;s Center for Teaching and Learning
REFRESH-INTERVAL;VALUE=DURATION:PT1H
X-Robots-Tag:noindex
X-PUBLISHED-TTL:PT1H
BEGIN:VTIMEZONE
TZID:America/New_York
BEGIN:DAYLIGHT
TZOFFSETFROM:-0500
TZOFFSETTO:-0400
TZNAME:EDT
DTSTART:20240310T070000
END:DAYLIGHT
BEGIN:STANDARD
TZOFFSETFROM:-0400
TZOFFSETTO:-0500
TZNAME:EST
DTSTART:20241103T060000
END:STANDARD
BEGIN:DAYLIGHT
TZOFFSETFROM:-0500
TZOFFSETTO:-0400
TZNAME:EDT
DTSTART:20250309T070000
END:DAYLIGHT
BEGIN:STANDARD
TZOFFSETFROM:-0400
TZOFFSETTO:-0500
TZNAME:EST
DTSTART:20251102T060000
END:STANDARD
BEGIN:DAYLIGHT
TZOFFSETFROM:-0500
TZOFFSETTO:-0400
TZNAME:EDT
DTSTART:20260308T070000
END:DAYLIGHT
BEGIN:STANDARD
TZOFFSETFROM:-0400
TZOFFSETTO:-0500
TZNAME:EST
DTSTART:20261101T060000
END:STANDARD
END:VTIMEZONE
BEGIN:VEVENT
DTSTART;TZID=America/New_York:20250814T090000
DTEND;TZID=America/New_York:20250814T150000
DTSTAMP:20260425T233142
CREATED:20250627T153642Z
LAST-MODIFIED:20250814T180642Z
UID:35231-1755162000-1755183600@teaching.nmc.edu
SUMMARY:Canvas Day Camp!
DESCRIPTION:https://nmc.zoom.us/j/95547068719?pwd=NuEor0VHa7eksZQKL0l7t9qvhGs5yz.1
URL:https://teaching.nmc.edu/event/canvas-day-camp-2/
LOCATION:TJNIC104/105
ORGANIZER;CN="nmc.edu_6q27us6gqkalq6i2l4omojijro@group.calendar.google.com":MAILTO:nmc.edu_6q27us6gqkalq6i2l4omojijro@group.calendar.google.com
END:VEVENT
END:VCALENDAR