BEGIN:VCALENDAR
VERSION:2.0
PRODID:-//NMC&#039;s Center for Teaching and Learning - ECPv6.15.20//NONSGML v1.0//EN
CALSCALE:GREGORIAN
METHOD:PUBLISH
X-WR-CALNAME:NMC&#039;s Center for Teaching and Learning
X-ORIGINAL-URL:https://teaching.nmc.edu
X-WR-CALDESC:Events for NMC&#039;s Center for Teaching and Learning
REFRESH-INTERVAL;VALUE=DURATION:PT1H
X-Robots-Tag:noindex
X-PUBLISHED-TTL:PT1H
BEGIN:VTIMEZONE
TZID:America/New_York
BEGIN:DAYLIGHT
TZOFFSETFROM:-0500
TZOFFSETTO:-0400
TZNAME:EDT
DTSTART:20240310T070000
END:DAYLIGHT
BEGIN:STANDARD
TZOFFSETFROM:-0400
TZOFFSETTO:-0500
TZNAME:EST
DTSTART:20241103T060000
END:STANDARD
BEGIN:DAYLIGHT
TZOFFSETFROM:-0500
TZOFFSETTO:-0400
TZNAME:EDT
DTSTART:20250309T070000
END:DAYLIGHT
BEGIN:STANDARD
TZOFFSETFROM:-0400
TZOFFSETTO:-0500
TZNAME:EST
DTSTART:20251102T060000
END:STANDARD
BEGIN:DAYLIGHT
TZOFFSETFROM:-0500
TZOFFSETTO:-0400
TZNAME:EDT
DTSTART:20260308T070000
END:DAYLIGHT
BEGIN:STANDARD
TZOFFSETFROM:-0400
TZOFFSETTO:-0500
TZNAME:EST
DTSTART:20261101T060000
END:STANDARD
END:VTIMEZONE
BEGIN:VEVENT
DTSTART;TZID=America/New_York:20250821T090000
DTEND;TZID=America/New_York:20250821T160000
DTSTAMP:20260425T233157
CREATED:20241220T173439Z
LAST-MODIFIED:20250821T182207Z
UID:33876-1755766800-1755792000@teaching.nmc.edu
SUMMARY:Canvas Kick-Off
DESCRIPTION:────────── \nBen Post is inviting you to a scheduled Zoom meeting.Join Zoom Meetinghttps://nmc.zoom.us/j/95547068719?pwd=NuEor0VHa7eksZQKL0l7t9qvhGs5yz.1 \nMeeting ID: 955 4706 8719Passcode: 773351 \n— \nOne tap mobile+16469313860\,\,95547068719# US+13017158592\,\,95547068719# US (Washington DC) \n— \nDial by your location• +1 646 931 3860 US• +1 301 715 8592 US (Washington DC)• +1 305 224 1968 US• +1 309 205 3325 US• +1 312 626 6799 US (Chicago)• +1 646 558 8656 US (New York)• +1 669 900 6833 US (San Jose)• +1 689 278 1000 US• +1 719 359 4580 US• +1 253 205 0468 US• +1 253 215 8782 US (Tacoma)• +1 346 248 7799 US (Houston)• +1 360 209 5623 US• +1 386 347 5053 US• +1 507 473 4847 US• +1 564 217 2000 US• +1 669 444 9171 US \nMeeting ID: 955 4706 8719 \nFind your local number: https://nmc.zoom.us/u/aOfyOXELN \n──────────
URL:https://teaching.nmc.edu/event/canvas-kick-off/
LOCATION:TJNIC 04/05
ORGANIZER;CN="nmc.edu_6q27us6gqkalq6i2l4omojijro@group.calendar.google.com":MAILTO:nmc.edu_6q27us6gqkalq6i2l4omojijro@group.calendar.google.com
END:VEVENT
END:VCALENDAR