BEGIN:VCALENDAR
VERSION:2.0
PRODID:-//NMC&#039;s Center for Teaching and Learning - ECPv6.15.20//NONSGML v1.0//EN
CALSCALE:GREGORIAN
METHOD:PUBLISH
X-WR-CALNAME:NMC&#039;s Center for Teaching and Learning
X-ORIGINAL-URL:https://teaching.nmc.edu
X-WR-CALDESC:Events for NMC&#039;s Center for Teaching and Learning
REFRESH-INTERVAL;VALUE=DURATION:PT1H
X-Robots-Tag:noindex
X-PUBLISHED-TTL:PT1H
BEGIN:VTIMEZONE
TZID:America/Detroit
BEGIN:DAYLIGHT
TZOFFSETFROM:-0500
TZOFFSETTO:-0400
TZNAME:EDT
DTSTART:20240310T070000
END:DAYLIGHT
BEGIN:STANDARD
TZOFFSETFROM:-0400
TZOFFSETTO:-0500
TZNAME:EST
DTSTART:20241103T060000
END:STANDARD
BEGIN:DAYLIGHT
TZOFFSETFROM:-0500
TZOFFSETTO:-0400
TZNAME:EDT
DTSTART:20250309T070000
END:DAYLIGHT
BEGIN:STANDARD
TZOFFSETFROM:-0400
TZOFFSETTO:-0500
TZNAME:EST
DTSTART:20251102T060000
END:STANDARD
BEGIN:DAYLIGHT
TZOFFSETFROM:-0500
TZOFFSETTO:-0400
TZNAME:EDT
DTSTART:20260308T070000
END:DAYLIGHT
BEGIN:STANDARD
TZOFFSETFROM:-0400
TZOFFSETTO:-0500
TZNAME:EST
DTSTART:20261101T060000
END:STANDARD
END:VTIMEZONE
BEGIN:VTIMEZONE
TZID:America/Toronto
BEGIN:DAYLIGHT
TZOFFSETFROM:-0500
TZOFFSETTO:-0400
TZNAME:EDT
DTSTART:20240310T070000
END:DAYLIGHT
BEGIN:STANDARD
TZOFFSETFROM:-0400
TZOFFSETTO:-0500
TZNAME:EST
DTSTART:20241103T060000
END:STANDARD
BEGIN:DAYLIGHT
TZOFFSETFROM:-0500
TZOFFSETTO:-0400
TZNAME:EDT
DTSTART:20250309T070000
END:DAYLIGHT
BEGIN:STANDARD
TZOFFSETFROM:-0400
TZOFFSETTO:-0500
TZNAME:EST
DTSTART:20251102T060000
END:STANDARD
BEGIN:DAYLIGHT
TZOFFSETFROM:-0500
TZOFFSETTO:-0400
TZNAME:EDT
DTSTART:20260308T070000
END:DAYLIGHT
BEGIN:STANDARD
TZOFFSETFROM:-0400
TZOFFSETTO:-0500
TZNAME:EST
DTSTART:20261101T060000
END:STANDARD
END:VTIMEZONE
BEGIN:VEVENT
DTSTART;TZID=America/Detroit:20250905T120000
DTEND;TZID=America/Detroit:20250905T130000
DTSTAMP:20260425T221036
CREATED:20250828T133859Z
LAST-MODIFIED:20250828T133859Z
UID:35657-1757073600-1757077200@teaching.nmc.edu
SUMMARY:AI Prompting: Crafting Conversations with AI
DESCRIPTION:Are you curious about AI and how it can help you?  Learn about working with the AI Large Language Models (LLM’s like Gemini\, ChatGPT\, and Perplexity.ai) to brainstorm\, summarize\, explain topics\, find information on the web\, and respond to complex prompts.  Come to this session where you will see a demonstration and get hands-on practice in AI Prompting! \nTo register via NEOED Learn\, please follow these instructions: NeoEd Learn – Registering for Courses Instructions – for Quick Bytes\nAll courses are offered via Zoom.  Please ensure your camera is on during our session to support collaboration and connection.
URL:https://teaching.nmc.edu/event/ai-prompting-crafting-conversations-with-ai/
LOCATION:MI
END:VEVENT
BEGIN:VEVENT
DTSTART;TZID=America/Toronto:20250905T123000
DTEND;TZID=America/Toronto:20250905T140000
DTSTAMP:20260425T221036
CREATED:20250514T205152Z
LAST-MODIFIED:20250904T183640Z
UID:34939-1757075400-1757080800@teaching.nmc.edu
SUMMARY:CIE Friday Forum
DESCRIPTION:Join the Center for Instructional Excellence for lunch and professional development programming on the first Friday of the month. Everyone is welcome. Please RSVP to help us make an accurate lunch order. If you forget to RSVP\, still come!
URL:https://teaching.nmc.edu/event/cie-friday-forum/
LOCATION:TJNIC 106/07
ORGANIZER;CN="nmc.edu_6q27us6gqkalq6i2l4omojijro@group.calendar.google.com":MAILTO:nmc.edu_6q27us6gqkalq6i2l4omojijro@group.calendar.google.com
END:VEVENT
END:VCALENDAR